BEGIN:VCALENDAR
VERSION:2.0
PRODID:-// - ECPv5.1.0//NONSGML v1.0//EN
CALSCALE:GREGORIAN
METHOD:PUBLISH
X-ORIGINAL-URL:https://test.spol.si
X-WR-CALDESC:Events for 
BEGIN:VTIMEZONE
TZID:UTC
BEGIN:STANDARD
TZOFFSETFROM:+0000
TZOFFSETTO:+0000
TZNAME:UTC
DTSTART:20200101T000000
END:STANDARD
END:VTIMEZONE
BEGIN:VEVENT
DTSTART;TZID=UTC:20200811T200000
DTEND;TZID=UTC:20200811T220000
DTSTAMP:20260420T130533
CREATED:20180125T122857Z
LAST-MODIFIED:20200508T102542Z
UID:29-1597176000-1597183200@test.spol.si
SUMMARY:Podelitev Bodeče neže
DESCRIPTION:Bodeča neža 2017/18 \n
URL:https://test.spol.si/event/bn/
LOCATION:Tovarna Rog\, Trubarjeva 72\, Ljubljana\, 1000\, Slovenia
ATTACH;FMTTYPE=image/jpeg:https://test.spol.si/wp-content/uploads/2018/01/neza-e1516891286922.jpg
END:VEVENT
END:VCALENDAR